BEGIN:VCALENDAR
VERSION:2.0
PRODID:-//The Life Church - ECPv6.15.17.1//NONSGML v1.0//EN
CALSCALE:GREGORIAN
METHOD:PUBLISH
X-WR-CALNAME:The Life Church
X-ORIGINAL-URL:https://tlcthelifechurch.org
X-WR-CALDESC:Events for The Life Church
REFRESH-INTERVAL;VALUE=DURATION:PT1H
X-Robots-Tag:noindex
X-PUBLISHED-TTL:PT1H
BEGIN:VTIMEZONE
TZID:America/New_York
BEGIN:DAYLIGHT
TZOFFSETFROM:-0500
TZOFFSETTO:-0400
TZNAME:EDT
DTSTART:20240310T070000
END:DAYLIGHT
BEGIN:STANDARD
TZOFFSETFROM:-0400
TZOFFSETTO:-0500
TZNAME:EST
DTSTART:20241103T060000
END:STANDARD
BEGIN:DAYLIGHT
TZOFFSETFROM:-0500
TZOFFSETTO:-0400
TZNAME:EDT
DTSTART:20250309T070000
END:DAYLIGHT
BEGIN:STANDARD
TZOFFSETFROM:-0400
TZOFFSETTO:-0500
TZNAME:EST
DTSTART:20251102T060000
END:STANDARD
BEGIN:DAYLIGHT
TZOFFSETFROM:-0500
TZOFFSETTO:-0400
TZNAME:EDT
DTSTART:20260308T070000
END:DAYLIGHT
BEGIN:STANDARD
TZOFFSETFROM:-0400
TZOFFSETTO:-0500
TZNAME:EST
DTSTART:20261101T060000
END:STANDARD
BEGIN:DAYLIGHT
TZOFFSETFROM:-0500
TZOFFSETTO:-0400
TZNAME:EDT
DTSTART:20270314T070000
END:DAYLIGHT
BEGIN:STANDARD
TZOFFSETFROM:-0400
TZOFFSETTO:-0500
TZNAME:EST
DTSTART:20271107T060000
END:STANDARD
END:VTIMEZONE
BEGIN:VEVENT
DTSTART;TZID=America/New_York:20260419T100000
DTEND;TZID=America/New_York:20260419T233000
DTSTAMP:20260421T134014
CREATED:20250116T204300Z
LAST-MODIFIED:20250207T192807Z
UID:10000079-1776592800-1776641400@tlcthelifechurch.org
SUMMARY:Sunday Morning Service
DESCRIPTION:Joins us at 10- a.m. at the Havre De Grace Activity Center \nCome be a part of what God’s gonna do in Havre De Grace md
URL:https://tlcthelifechurch.org/event/facilitate-cross-media-functionalities/2026-04-19/
LOCATION:Church\, 351 Lane Street\, Havre De Grace\, MD\, 21078\, United States
CATEGORIES:Generated
ATTACH;FMTTYPE=image/png:https://tlcthelifechurch.org/wp-content/uploads/2017/09/logo-robot-retina.png
ORGANIZER;CN="Church Clerk":MAILTO:isai@ondricka-qa.evnt.is
END:VEVENT
BEGIN:VEVENT
DTSTART;TZID=America/New_York:20260329T100000
DTEND;TZID=America/New_York:20260329T233000
DTSTAMP:20260421T134014
CREATED:20250116T204300Z
LAST-MODIFIED:20250207T192807Z
UID:10000076-1774778400-1774827000@tlcthelifechurch.org
SUMMARY:Sunday Morning Service
DESCRIPTION:Joins us at 10- a.m. at the Havre De Grace Activity Center \nCome be a part of what God’s gonna do in Havre De Grace md
URL:https://tlcthelifechurch.org/event/facilitate-cross-media-functionalities/2026-03-29/
LOCATION:Church\, 351 Lane Street\, Havre De Grace\, MD\, 21078\, United States
CATEGORIES:Generated
ATTACH;FMTTYPE=image/png:https://tlcthelifechurch.org/wp-content/uploads/2017/09/logo-robot-retina.png
ORGANIZER;CN="Church Clerk":MAILTO:isai@ondricka-qa.evnt.is
END:VEVENT
BEGIN:VEVENT
DTSTART;TZID=America/New_York:20260308T100000
DTEND;TZID=America/New_York:20260308T233000
DTSTAMP:20260421T134014
CREATED:20250116T204300Z
LAST-MODIFIED:20250207T192807Z
UID:10000073-1772964000-1773012600@tlcthelifechurch.org
SUMMARY:Sunday Morning Service
DESCRIPTION:Joins us at 10- a.m. at the Havre De Grace Activity Center \nCome be a part of what God’s gonna do in Havre De Grace md
URL:https://tlcthelifechurch.org/event/facilitate-cross-media-functionalities/2026-03-08/
LOCATION:Church\, 351 Lane Street\, Havre De Grace\, MD\, 21078\, United States
CATEGORIES:Generated
ATTACH;FMTTYPE=image/png:https://tlcthelifechurch.org/wp-content/uploads/2017/09/logo-robot-retina.png
ORGANIZER;CN="Church Clerk":MAILTO:isai@ondricka-qa.evnt.is
END:VEVENT
BEGIN:VEVENT
DTSTART;TZID=America/New_York:20260215T100000
DTEND;TZID=America/New_York:20260215T233000
DTSTAMP:20260421T134014
CREATED:20250116T204300Z
LAST-MODIFIED:20250207T192807Z
UID:10000070-1771149600-1771198200@tlcthelifechurch.org
SUMMARY:Sunday Morning Service
DESCRIPTION:Joins us at 10- a.m. at the Havre De Grace Activity Center \nCome be a part of what God’s gonna do in Havre De Grace md
URL:https://tlcthelifechurch.org/event/facilitate-cross-media-functionalities/2026-02-15/
LOCATION:Church\, 351 Lane Street\, Havre De Grace\, MD\, 21078\, United States
CATEGORIES:Generated
ATTACH;FMTTYPE=image/png:https://tlcthelifechurch.org/wp-content/uploads/2017/09/logo-robot-retina.png
ORGANIZER;CN="Church Clerk":MAILTO:isai@ondricka-qa.evnt.is
END:VEVENT
BEGIN:VEVENT
DTSTART;TZID=America/New_York:20260125T100000
DTEND;TZID=America/New_York:20260125T233000
DTSTAMP:20260421T134014
CREATED:20250116T204300Z
LAST-MODIFIED:20250207T192807Z
UID:10000067-1769335200-1769383800@tlcthelifechurch.org
SUMMARY:Sunday Morning Service
DESCRIPTION:Joins us at 10- a.m. at the Havre De Grace Activity Center \nCome be a part of what God’s gonna do in Havre De Grace md
URL:https://tlcthelifechurch.org/event/facilitate-cross-media-functionalities/2026-01-25/
LOCATION:Church\, 351 Lane Street\, Havre De Grace\, MD\, 21078\, United States
CATEGORIES:Generated
ATTACH;FMTTYPE=image/png:https://tlcthelifechurch.org/wp-content/uploads/2017/09/logo-robot-retina.png
ORGANIZER;CN="Church Clerk":MAILTO:isai@ondricka-qa.evnt.is
END:VEVENT
BEGIN:VEVENT
DTSTART;TZID=America/New_York:20260104T100000
DTEND;TZID=America/New_York:20260104T233000
DTSTAMP:20260421T134014
CREATED:20250116T204300Z
LAST-MODIFIED:20250207T192807Z
UID:10000064-1767520800-1767569400@tlcthelifechurch.org
SUMMARY:Sunday Morning Service
DESCRIPTION:Joins us at 10- a.m. at the Havre De Grace Activity Center \nCome be a part of what God’s gonna do in Havre De Grace md
URL:https://tlcthelifechurch.org/event/facilitate-cross-media-functionalities/2026-01-04/
LOCATION:Church\, 351 Lane Street\, Havre De Grace\, MD\, 21078\, United States
CATEGORIES:Generated
ATTACH;FMTTYPE=image/png:https://tlcthelifechurch.org/wp-content/uploads/2017/09/logo-robot-retina.png
ORGANIZER;CN="Church Clerk":MAILTO:isai@ondricka-qa.evnt.is
END:VEVENT
BEGIN:VEVENT
DTSTART;TZID=America/New_York:20251214T100000
DTEND;TZID=America/New_York:20251214T233000
DTSTAMP:20260421T134014
CREATED:20250116T204300Z
LAST-MODIFIED:20250207T192807Z
UID:10000061-1765706400-1765755000@tlcthelifechurch.org
SUMMARY:Sunday Morning Service
DESCRIPTION:Joins us at 10- a.m. at the Havre De Grace Activity Center \nCome be a part of what God’s gonna do in Havre De Grace md
URL:https://tlcthelifechurch.org/event/facilitate-cross-media-functionalities/2025-12-14/
LOCATION:Church\, 351 Lane Street\, Havre De Grace\, MD\, 21078\, United States
CATEGORIES:Generated
ATTACH;FMTTYPE=image/png:https://tlcthelifechurch.org/wp-content/uploads/2017/09/logo-robot-retina.png
ORGANIZER;CN="Church Clerk":MAILTO:isai@ondricka-qa.evnt.is
END:VEVENT
BEGIN:VEVENT
DTSTART;TZID=America/New_York:20251123T100000
DTEND;TZID=America/New_York:20251123T233000
DTSTAMP:20260421T134014
CREATED:20250116T204300Z
LAST-MODIFIED:20250207T192807Z
UID:10000058-1763892000-1763940600@tlcthelifechurch.org
SUMMARY:Sunday Morning Service
DESCRIPTION:Joins us at 10- a.m. at the Havre De Grace Activity Center \nCome be a part of what God’s gonna do in Havre De Grace md
URL:https://tlcthelifechurch.org/event/facilitate-cross-media-functionalities/2025-11-23/
LOCATION:Church\, 351 Lane Street\, Havre De Grace\, MD\, 21078\, United States
CATEGORIES:Generated
ATTACH;FMTTYPE=image/png:https://tlcthelifechurch.org/wp-content/uploads/2017/09/logo-robot-retina.png
ORGANIZER;CN="Church Clerk":MAILTO:isai@ondricka-qa.evnt.is
END:VEVENT
BEGIN:VEVENT
DTSTART;TZID=America/New_York:20251102T100000
DTEND;TZID=America/New_York:20251102T233000
DTSTAMP:20260421T134014
CREATED:20250116T204300Z
LAST-MODIFIED:20250207T192807Z
UID:10000055-1762077600-1762126200@tlcthelifechurch.org
SUMMARY:Sunday Morning Service
DESCRIPTION:Joins us at 10- a.m. at the Havre De Grace Activity Center \nCome be a part of what God’s gonna do in Havre De Grace md
URL:https://tlcthelifechurch.org/event/facilitate-cross-media-functionalities/2025-11-02/
LOCATION:Church\, 351 Lane Street\, Havre De Grace\, MD\, 21078\, United States
CATEGORIES:Generated
ATTACH;FMTTYPE=image/png:https://tlcthelifechurch.org/wp-content/uploads/2017/09/logo-robot-retina.png
ORGANIZER;CN="Church Clerk":MAILTO:isai@ondricka-qa.evnt.is
END:VEVENT
BEGIN:VEVENT
DTSTART;TZID=America/New_York:20251012T100000
DTEND;TZID=America/New_York:20251012T233000
DTSTAMP:20260421T134014
CREATED:20250116T204300Z
LAST-MODIFIED:20250207T192807Z
UID:10000052-1760263200-1760311800@tlcthelifechurch.org
SUMMARY:Sunday Morning Service
DESCRIPTION:Joins us at 10- a.m. at the Havre De Grace Activity Center \nCome be a part of what God’s gonna do in Havre De Grace md
URL:https://tlcthelifechurch.org/event/facilitate-cross-media-functionalities/2025-10-12/
LOCATION:Church\, 351 Lane Street\, Havre De Grace\, MD\, 21078\, United States
CATEGORIES:Generated
ATTACH;FMTTYPE=image/png:https://tlcthelifechurch.org/wp-content/uploads/2017/09/logo-robot-retina.png
ORGANIZER;CN="Church Clerk":MAILTO:isai@ondricka-qa.evnt.is
END:VEVENT
BEGIN:VEVENT
DTSTART;TZID=America/New_York:20250921T100000
DTEND;TZID=America/New_York:20250921T233000
DTSTAMP:20260421T134014
CREATED:20250116T204300Z
LAST-MODIFIED:20250207T192807Z
UID:10000049-1758448800-1758497400@tlcthelifechurch.org
SUMMARY:Sunday Morning Service
DESCRIPTION:Joins us at 10- a.m. at the Havre De Grace Activity Center \nCome be a part of what God’s gonna do in Havre De Grace md
URL:https://tlcthelifechurch.org/event/facilitate-cross-media-functionalities/2025-09-21/
LOCATION:Church\, 351 Lane Street\, Havre De Grace\, MD\, 21078\, United States
CATEGORIES:Generated
ATTACH;FMTTYPE=image/png:https://tlcthelifechurch.org/wp-content/uploads/2017/09/logo-robot-retina.png
ORGANIZER;CN="Church Clerk":MAILTO:isai@ondricka-qa.evnt.is
END:VEVENT
BEGIN:VEVENT
DTSTART;TZID=America/New_York:20250831T100000
DTEND;TZID=America/New_York:20250831T233000
DTSTAMP:20260421T134014
CREATED:20250116T204300Z
LAST-MODIFIED:20250207T192807Z
UID:10000046-1756634400-1756683000@tlcthelifechurch.org
SUMMARY:Sunday Morning Service
DESCRIPTION:Joins us at 10- a.m. at the Havre De Grace Activity Center \nCome be a part of what God’s gonna do in Havre De Grace md
URL:https://tlcthelifechurch.org/event/facilitate-cross-media-functionalities/2025-08-31/
LOCATION:Church\, 351 Lane Street\, Havre De Grace\, MD\, 21078\, United States
CATEGORIES:Generated
ATTACH;FMTTYPE=image/png:https://tlcthelifechurch.org/wp-content/uploads/2017/09/logo-robot-retina.png
ORGANIZER;CN="Church Clerk":MAILTO:isai@ondricka-qa.evnt.is
END:VEVENT
BEGIN:VEVENT
DTSTART;TZID=America/New_York:20250810T100000
DTEND;TZID=America/New_York:20250810T233000
DTSTAMP:20260421T134014
CREATED:20250116T204300Z
LAST-MODIFIED:20250207T192807Z
UID:10000043-1754820000-1754868600@tlcthelifechurch.org
SUMMARY:Sunday Morning Service
DESCRIPTION:Joins us at 10- a.m. at the Havre De Grace Activity Center \nCome be a part of what God’s gonna do in Havre De Grace md
URL:https://tlcthelifechurch.org/event/facilitate-cross-media-functionalities/2025-08-10/
LOCATION:Church\, 351 Lane Street\, Havre De Grace\, MD\, 21078\, United States
CATEGORIES:Generated
ATTACH;FMTTYPE=image/png:https://tlcthelifechurch.org/wp-content/uploads/2017/09/logo-robot-retina.png
ORGANIZER;CN="Church Clerk":MAILTO:isai@ondricka-qa.evnt.is
END:VEVENT
BEGIN:VEVENT
DTSTART;TZID=America/New_York:20250720T100000
DTEND;TZID=America/New_York:20250720T233000
DTSTAMP:20260421T134014
CREATED:20250116T204300Z
LAST-MODIFIED:20250207T192807Z
UID:10000040-1753005600-1753054200@tlcthelifechurch.org
SUMMARY:Sunday Morning Service
DESCRIPTION:Joins us at 10- a.m. at the Havre De Grace Activity Center \nCome be a part of what God’s gonna do in Havre De Grace md
URL:https://tlcthelifechurch.org/event/facilitate-cross-media-functionalities/2025-07-20/
LOCATION:Church\, 351 Lane Street\, Havre De Grace\, MD\, 21078\, United States
CATEGORIES:Generated
ATTACH;FMTTYPE=image/png:https://tlcthelifechurch.org/wp-content/uploads/2017/09/logo-robot-retina.png
ORGANIZER;CN="Church Clerk":MAILTO:isai@ondricka-qa.evnt.is
END:VEVENT
BEGIN:VEVENT
DTSTART;TZID=America/New_York:20250629T100000
DTEND;TZID=America/New_York:20250629T233000
DTSTAMP:20260421T134014
CREATED:20250116T204300Z
LAST-MODIFIED:20250207T192807Z
UID:10000037-1751191200-1751239800@tlcthelifechurch.org
SUMMARY:Sunday Morning Service
DESCRIPTION:Joins us at 10- a.m. at the Havre De Grace Activity Center \nCome be a part of what God’s gonna do in Havre De Grace md
URL:https://tlcthelifechurch.org/event/facilitate-cross-media-functionalities/2025-06-29/
LOCATION:Church\, 351 Lane Street\, Havre De Grace\, MD\, 21078\, United States
CATEGORIES:Generated
ATTACH;FMTTYPE=image/png:https://tlcthelifechurch.org/wp-content/uploads/2017/09/logo-robot-retina.png
ORGANIZER;CN="Church Clerk":MAILTO:isai@ondricka-qa.evnt.is
END:VEVENT
BEGIN:VEVENT
DTSTART;TZID=America/New_York:20250608T100000
DTEND;TZID=America/New_York:20250608T233000
DTSTAMP:20260421T134014
CREATED:20250116T204300Z
LAST-MODIFIED:20250207T192807Z
UID:10000034-1749376800-1749425400@tlcthelifechurch.org
SUMMARY:Sunday Morning Service
DESCRIPTION:Joins us at 10- a.m. at the Havre De Grace Activity Center \nCome be a part of what God’s gonna do in Havre De Grace md
URL:https://tlcthelifechurch.org/event/facilitate-cross-media-functionalities/2025-06-08/
LOCATION:Church\, 351 Lane Street\, Havre De Grace\, MD\, 21078\, United States
CATEGORIES:Generated
ATTACH;FMTTYPE=image/png:https://tlcthelifechurch.org/wp-content/uploads/2017/09/logo-robot-retina.png
ORGANIZER;CN="Church Clerk":MAILTO:isai@ondricka-qa.evnt.is
END:VEVENT
BEGIN:VEVENT
DTSTART;TZID=America/New_York:20250518T100000
DTEND;TZID=America/New_York:20250518T233000
DTSTAMP:20260421T134014
CREATED:20250116T204300Z
LAST-MODIFIED:20250207T192807Z
UID:10000031-1747562400-1747611000@tlcthelifechurch.org
SUMMARY:Sunday Morning Service
DESCRIPTION:Joins us at 10- a.m. at the Havre De Grace Activity Center \nCome be a part of what God’s gonna do in Havre De Grace md
URL:https://tlcthelifechurch.org/event/facilitate-cross-media-functionalities/2025-05-18/
LOCATION:Church\, 351 Lane Street\, Havre De Grace\, MD\, 21078\, United States
CATEGORIES:Generated
ATTACH;FMTTYPE=image/png:https://tlcthelifechurch.org/wp-content/uploads/2017/09/logo-robot-retina.png
ORGANIZER;CN="Church Clerk":MAILTO:isai@ondricka-qa.evnt.is
END:VEVENT
BEGIN:VEVENT
DTSTART;TZID=America/New_York:20250427T100000
DTEND;TZID=America/New_York:20250427T233000
DTSTAMP:20260421T134014
CREATED:20250116T204300Z
LAST-MODIFIED:20250207T192807Z
UID:10000028-1745748000-1745796600@tlcthelifechurch.org
SUMMARY:Sunday Morning Service
DESCRIPTION:Joins us at 10- a.m. at the Havre De Grace Activity Center \nCome be a part of what God’s gonna do in Havre De Grace md
URL:https://tlcthelifechurch.org/event/facilitate-cross-media-functionalities/2025-04-27/
LOCATION:Church\, 351 Lane Street\, Havre De Grace\, MD\, 21078\, United States
CATEGORIES:Generated
ATTACH;FMTTYPE=image/png:https://tlcthelifechurch.org/wp-content/uploads/2017/09/logo-robot-retina.png
ORGANIZER;CN="Church Clerk":MAILTO:isai@ondricka-qa.evnt.is
END:VEVENT
BEGIN:VEVENT
DTSTART;TZID=America/New_York:20250406T100000
DTEND;TZID=America/New_York:20250406T233000
DTSTAMP:20260421T134014
CREATED:20250116T204300Z
LAST-MODIFIED:20250207T192807Z
UID:10000025-1743933600-1743982200@tlcthelifechurch.org
SUMMARY:Sunday Morning Service
DESCRIPTION:Joins us at 10- a.m. at the Havre De Grace Activity Center \nCome be a part of what God’s gonna do in Havre De Grace md
URL:https://tlcthelifechurch.org/event/facilitate-cross-media-functionalities/2025-04-06/
LOCATION:Church\, 351 Lane Street\, Havre De Grace\, MD\, 21078\, United States
CATEGORIES:Generated
ATTACH;FMTTYPE=image/png:https://tlcthelifechurch.org/wp-content/uploads/2017/09/logo-robot-retina.png
ORGANIZER;CN="Church Clerk":MAILTO:isai@ondricka-qa.evnt.is
END:VEVENT
BEGIN:VEVENT
DTSTART;TZID=America/New_York:20250316T100000
DTEND;TZID=America/New_York:20250316T233000
DTSTAMP:20260421T134014
CREATED:20250116T204300Z
LAST-MODIFIED:20250207T192807Z
UID:10000022-1742119200-1742167800@tlcthelifechurch.org
SUMMARY:Sunday Morning Service
DESCRIPTION:Joins us at 10- a.m. at the Havre De Grace Activity Center \nCome be a part of what God’s gonna do in Havre De Grace md
URL:https://tlcthelifechurch.org/event/facilitate-cross-media-functionalities/2025-03-16/
LOCATION:Church\, 351 Lane Street\, Havre De Grace\, MD\, 21078\, United States
CATEGORIES:Generated
ATTACH;FMTTYPE=image/png:https://tlcthelifechurch.org/wp-content/uploads/2017/09/logo-robot-retina.png
ORGANIZER;CN="Church Clerk":MAILTO:isai@ondricka-qa.evnt.is
END:VEVENT
BEGIN:VEVENT
DTSTART;TZID=America/New_York:20250223T100000
DTEND;TZID=America/New_York:20250223T233000
DTSTAMP:20260421T134014
CREATED:20250116T204300Z
LAST-MODIFIED:20250207T192807Z
UID:10000019-1740304800-1740353400@tlcthelifechurch.org
SUMMARY:Sunday Morning Service
DESCRIPTION:Joins us at 10- a.m. at the Havre De Grace Activity Center \nCome be a part of what God’s gonna do in Havre De Grace md
URL:https://tlcthelifechurch.org/event/facilitate-cross-media-functionalities/2025-02-23/
LOCATION:Church\, 351 Lane Street\, Havre De Grace\, MD\, 21078\, United States
CATEGORIES:Generated
ATTACH;FMTTYPE=image/png:https://tlcthelifechurch.org/wp-content/uploads/2017/09/logo-robot-retina.png
ORGANIZER;CN="Church Clerk":MAILTO:isai@ondricka-qa.evnt.is
END:VEVENT
BEGIN:VEVENT
DTSTART;TZID=America/New_York:20250202T100000
DTEND;TZID=America/New_York:20250202T233000
DTSTAMP:20260421T134014
CREATED:20250116T204300Z
LAST-MODIFIED:20250207T192807Z
UID:10000016-1738490400-1738539000@tlcthelifechurch.org
SUMMARY:Sunday Morning Service
DESCRIPTION:Joins us at 10- a.m. at the Havre De Grace Activity Center \nCome be a part of what God’s gonna do in Havre De Grace md
URL:https://tlcthelifechurch.org/event/facilitate-cross-media-functionalities/2025-02-02/
LOCATION:Church\, 351 Lane Street\, Havre De Grace\, MD\, 21078\, United States
CATEGORIES:Generated
ATTACH;FMTTYPE=image/png:https://tlcthelifechurch.org/wp-content/uploads/2017/09/logo-robot-retina.png
ORGANIZER;CN="Church Clerk":MAILTO:isai@ondricka-qa.evnt.is
END:VEVENT
END:VCALENDAR